BEGIN:VCALENDAR
VERSION:2.0
PRODID:-//Prom Queens - ECPv6.15.20//NONSGML v1.0//EN
CALSCALE:GREGORIAN
METHOD:PUBLISH
X-ORIGINAL-URL:https://promqueens.de
X-WR-CALDESC:Veranstaltungen für Prom Queens
REFRESH-INTERVAL;VALUE=DURATION:PT1H
X-Robots-Tag:noindex
X-PUBLISHED-TTL:PT1H
BEGIN:VTIMEZONE
TZID:UTC
BEGIN:STANDARD
TZOFFSETFROM:+0000
TZOFFSETTO:+0000
TZNAME:UTC
DTSTART:20240101T000000
END:STANDARD
END:VTIMEZONE
BEGIN:VEVENT
DTSTART;TZID=UTC:20250822T080000
DTEND;TZID=UTC:20250824T220000
DTSTAMP:20260423T152324
CREATED:20250202T190315Z
LAST-MODIFIED:20250202T201452Z
UID:3696-1755849600-1756072800@promqueens.de
SUMMARY:Rock im Feld
DESCRIPTION:Rock im Feld 2025 – die 28. Auflage des kleinen aber feinen Festivals im Westerwald! \nMit unserem Family Event am Freitag sorgen wir für kostenfreies Vergnügen\, und freuen uns euch ein super Line-Up für das Wochenende präsentieren zu dürfen.
URL:https://promqueens.de/event/rock-im-feld
LOCATION:Kinder-\, Jugend- und Freizeitanlage\, 56459 Rotenhain\, Kinder-\, Jugend- und Freizeitanlage\, Rotenhain\, Rheinland-Pfalz\, 56459\, Germany
CATEGORIES:Concerts
ATTACH;FMTTYPE=image/jpeg:https://promqueens.de/wp-content/uploads/2025/02/th.jpg
ORGANIZER;CN="purKULTUR Rotenhain e.V.":MAILTO:info@rockimfeld.de
END:VEVENT
END:VCALENDAR